BEGIN:VCALENDAR
VERSION:2.0
PRODID:-//PRO ECUADOR - ECPv4.7.4//NONSGML v1.0//EN
CALSCALE:GREGORIAN
METHOD:PUBLISH
X-WR-CALNAME:PRO ECUADOR
X-ORIGINAL-URL:https://www.proecuador.gob.ec
X-WR-CALDESC:Eventos para PRO ECUADOR
BEGIN:VEVENT
DTSTART;VALUE=DATE:20180218
DTEND;VALUE=DATE:20180223
DTSTAMP:20260425T031014
CREATED:20171208T175257Z
LAST-MODIFIED:20211022T063322Z
UID:66429-1518912000-1519343999@www.proecuador.gob.ec
SUMMARY:GULFOOD 2018
DESCRIPTION:“GULFOOD” es la feria líder en Medio Oriente transformándose en una plataforma comercial para la región y además para África y Asia del Sur\, siendo una vitrina de sabores internacionales de clase mundial. El evento presenta las últimas tendencias de la industria alimenticia. \nEl Instituto de Promoción de Exportaciones e Inversiones – PRO ECUADOR\, a través de su Oficina Comercial de Ecuador en Dubái y con el propósito de fortalecer la presencia de nuestros productos en este mercado\, participarán en la feria “FERIA INTERNACIONAL GULFOOD 2018” a realizarse en la ciudad Dubái – Emiratos Árabes Unidos\, del 18 al 22 de febrero de 2018. \nPRO ECUADOR gestionará la participación de los seleccionados a través de la modalidad de cooperación conjunta con empresas exportadoras de los sectores participantes. \nPara que su empresa sea parte del stand país\, deberá enviar al correo electrónico: promocionexportaciones@proecuador.gob.ec hasta el día jueves 14 de diciembre de 2017 los siguientes documentos: \n\nFormulario de inscripción en línea.\nCertificado de no tener obligaciones pendientes con el I.E.S.S.\n\nEl costo aproximado de participación por empresa es de USD $2\,606.27 más impuestos\, los cuales deberán ser transferidos a Emiratos Árabes Unidos en plazos establecidos posteriormente. PRO ECUADOR no recibirá o cobrará valores por ningún concepto. Кому какое дело\, что там происходило\, если есть такой замечательный ресурс как Порно Bolt? Порнуха здесь льется рекой. Тут реки спермы\, океаны сквирта\, кремовые пироги и горы взбитого хуями шоколада внутри зрелых задниц. Не упустите свой шанс наведаться на самый топовый порно-ресурс 2022 года. Нам остается лишь позавидовать счастливчику\, который получит возможность бесплатно смотреть порно в премиальном full hd качестве прямо со своего телефона стоимостью в 10 тысяч рублей. Налетай на крутую порнуху! \nEn caso de requerir información adicional\, favor comunicarse con Luis Soria\, Especialista Sectorial de Agroindustria\, al 02 – 3937226 ext. 111. \nPara formar parte del proceso de selección por favor llenar el formulario en línea adjunto Aqui \n
URL:https://www.proecuador.gob.ec/event/gulfood-2018/
CATEGORIES:Ferias
ATTACH;FMTTYPE=image/jpeg:https://www.proecuador.gob.ec/wp-content/uploads/2017/12/Banner-Feria-Internacional-GULFOOD-2018-01.jpg
END:VEVENT
END:VCALENDAR