BEGIN:VCALENDAR
VERSION:2.0
PRODID:-//PRO ECUADOR - ECPv4.7.4//NONSGML v1.0//EN
CALSCALE:GREGORIAN
METHOD:PUBLISH
X-WR-CALNAME:PRO ECUADOR
X-ORIGINAL-URL:https://www.proecuador.gob.ec
X-WR-CALDESC:Eventos para PRO ECUADOR
BEGIN:VEVENT
DTSTART;VALUE=DATE:20180207
DTEND;VALUE=DATE:20180210
DTSTAMP:20260424T144602
CREATED:20171024T183530Z
LAST-MODIFIED:20180207T074538Z
UID:65561-1517961600-1518220799@www.proecuador.gob.ec
SUMMARY:FRUIT LOGÍSTICA 2018
DESCRIPTION:FRUIT LOGÍSTICA es la feria más importante para la comercialización de frutas frescas\, la cual en su edición anterior\, convocó a más de 3\,000 expositores de todo el mundo\, promocionando las innovaciones y nuevas tendencias del sector. \nEl Instituto de Promoción de Exportaciones e Inversiones – PRO ECUADOR\, entidad adscrita al Ministerio de Comercio Exterior\, a través de la Oficina Comercial del Ecuador en Hamburgo\, lo invitan a participar en la Feria “FRUIT LOGÍSTICA 2018” a realizarse en la ciudad de Berlín- Alemania\, del 7 al 9 de febrero de 2018\, para posicionar la imagen del país junto a su oferta exportable y generar oportunidades de negocio y contactos en el mercado europeo. \nPRO ECUADOR gestionará la participación de los seleccionados a través de la modalidad de cooperación conjunta con empresas exportadoras de Banano y Frutas no tradicionales. \n  \nSu participación es muy importante para nuestra Institución. Por favor remitirnos su interés al correo electrónico: promocionexportaciones@proecuador.gob.ec hasta el día miércoles 1 de noviembre de 2017 adjuntando los siguientes documentos: \n\nFormulario de inscripción en línea.\nCertificado de no tener obligaciones pendientes con el I.E.S.S.\n\nEl costo aproximado de participación por empresa es de USD $3\,265.37 más impuestos\, los cuales deberán ser cancelados a la Cámara de Industrias y Comercio Ecuatoriano-Alemana en plazos establecidos posteriormente. PRO ECUADOR no recibirá o cobrará valores por ningún concepto. \nPara mayor información\, favor comunicarse con María José Matos\, Especialista Sectorial de Banano\, al 04 – 2597980 ext. 255. \nPara formar parte del proceso de selección por favor llenar el siguiente formulario adjunto Aqui \n \n
URL:https://www.proecuador.gob.ec/event/fruit-logistica-2018/
CATEGORIES:Ferias,Internacionales
ATTACH;FMTTYPE=image/jpeg:https://www.proecuador.gob.ec/wp-content/uploads/2018/02/Banner-Feria-FRUIT-LOGISTICA-2018-01.jpg
END:VEVENT
END:VCALENDAR