BEGIN:VCALENDAR
VERSION:2.0
PRODID:-//PRO ECUADOR - ECPv4.7.4//NONSGML v1.0//EN
CALSCALE:GREGORIAN
METHOD:PUBLISH
X-WR-CALNAME:PRO ECUADOR
X-ORIGINAL-URL:https://www.proecuador.gob.ec
X-WR-CALDESC:Eventos para PRO ECUADOR
BEGIN:VEVENT
DTSTART;VALUE=DATE:20180123
DTEND;VALUE=DATE:20180126
DTSTAMP:20260423T140603
CREATED:20170928T102150Z
LAST-MODIFIED:20170928T102150Z
UID:65008-1516665600-1516924799@www.proecuador.gob.ec
SUMMARY:COLOMBIATEX 2018
DESCRIPTION:Colombiatex de las Américas es la muestra textil\, de insumos\, maquinaria y químicos para la confección y el hogar líder en América Latina. Se ha posicionado como el centro de negocios más importante para el sector textil con una contundente oferta de valor\, donde se unen la oferta y la demanda en todos los segmentos de negocio y para  todos los ámbitos de vestuario. \nEl Instituto de Promoción de Exportaciones e Inversiones – PRO ECUADOR\, a través de su Oficina Comercial en Bogotá y con el propósito de fortalecer la presencia de nuestros productos en este mercado\, participará en la feria “COLOMBIATEX” a realizarse en la ciudad de Medellín\, Colombia del 23 al 25 de Enero de 2018. \nSu participación es muy importante para nuestra Institución\, que le permitirá promocionar sus productos. Por favor remitirnos su interés al correo electrónico: promocionexportaciones@proecuador.gob.ec hasta el día miércoles 4 de Octubre de 2017 adjuntando los siguientes documentos: \n\nFormulario de inscripción en línea.\nCertificado de no tener obligaciones pendientes con el I.E.S.S.\n\nPara mayor información\, favor comunicarse con Rossana Jaramillo\, Especialista Sectorial de Textil\, Confección\, Cuero\, Calzado y Sombreros de Paja Toquilla  al 02 – 3937226 ext. 111. \nPara participar en el proceso de selección por favor llenar el formulario en línea adjunto Aqui \n
URL:https://www.proecuador.gob.ec/event/colombiatex-2018/
CATEGORIES:Ferias
END:VEVENT
END:VCALENDAR