BEGIN:VCALENDAR
VERSION:2.0
PRODID:-//PRO ECUADOR - ECPv4.7.4//NONSGML v1.0//EN
CALSCALE:GREGORIAN
METHOD:PUBLISH
X-WR-CALNAME:PRO ECUADOR
X-ORIGINAL-URL:https://www.proecuador.gob.ec
X-WR-CALDESC:Eventos para PRO ECUADOR
BEGIN:VEVENT
DTSTART;TZID=UTC+0:20251219T100000
DTEND;TZID=UTC+0:20251219T120000
DTSTAMP:20260424T124422
CREATED:20251212T191433Z
LAST-MODIFIED:20251212T191433Z
UID:96579-1766138400-1766145600@www.proecuador.gob.ec
SUMMARY:Descubre mercados estratégicos con TradeMap y MacMap
DESCRIPTION:El Instituto de Promoción del Ecuador – PRO ECUADOR\, entidad adscrita del Ministerio de Producción\, Comercio Exterior\, Inversiones – MPCEI\, extiende una cordial invitación para que sean partícipes de la capacitación: “Descubre mercados estratégicos con TradeMap y MacMap”. \nEn el evento intervendrá: \nMgs. Carolina Vargas; Capacitadora certificada ITC en el uso de TradeMap y MacMap. \n
URL:https://www.proecuador.gob.ec/event/descubre-mercados-estrategicos-con-trademap-y-macmap/
LOCATION:On line (Webinar)\, On line (Webinar)\, On line (Webinar)\, On line (Webinar)\, Ecuador
CATEGORIES:Capacitaciones
ATTACH;FMTTYPE=image/jpeg:https://www.proecuador.gob.ec/wp-content/uploads/2025/12/INV.-TRADEMAP-Y-MACMAP-DIC-05-1.jpeg
ORGANIZER;CN="PRO%20ECUADOR":MAILTO:capacitacion@proecuador.gob.ec
END:VEVENT
END:VCALENDAR