BEGIN:VCALENDAR
VERSION:2.0
PRODID:-//PRO ECUADOR - ECPv4.7.4//NONSGML v1.0//EN
CALSCALE:GREGORIAN
METHOD:PUBLISH
X-WR-CALNAME:PRO ECUADOR
X-ORIGINAL-URL:https://www.proecuador.gob.ec
X-WR-CALDESC:Eventos para PRO ECUADOR
BEGIN:VEVENT
DTSTART;TZID=UTC+0:20251218T100000
DTEND;TZID=UTC+0:20251218T110000
DTSTAMP:20260424T140918
CREATED:20251212T190421Z
LAST-MODIFIED:20251212T191616Z
UID:96576-1766052000-1766055600@www.proecuador.gob.ec
SUMMARY:Productos de Comercio Exterior Banco del Pacífico segmento Pyme
DESCRIPTION:El Instituto de Promoción del Ecuador – PRO ECUADOR\, entidad adscrita del Ministerio de Producción\, Comercio Exterior e Inversiones – MPCEI; con el apoyo de Banco del Pacifico\, extienden una cordial invitación para que sean partícipes de la capacitación: “Productos de Comercio Exterior Banco del Pacífico segmento Pyme”. \nEn el evento intervendrá: \nDavid Ramírez; Asesor de la Banca Pyme Empresarial y\nJean Pierre Campos; Especialista de Comercio Exterior. \n
URL:https://www.proecuador.gob.ec/event/productos-de-comercio-exterior-banco-del-pacifico-segmento-pyme/
LOCATION:On line (Webinar)\, On line (Webinar)\, On line (Webinar)\, On line (Webinar)\, Ecuador
CATEGORIES:Capacitaciones
ATTACH;FMTTYPE=image/jpeg:https://www.proecuador.gob.ec/wp-content/uploads/2025/12/INV-PACIFICO-DIC-05.jpg
ORGANIZER;CN="PRO%20ECUADOR":MAILTO:capacitacion@proecuador.gob.ec
END:VEVENT
END:VCALENDAR