BEGIN:VCALENDAR
VERSION:2.0
PRODID:-//PRO ECUADOR - ECPv4.7.4//NONSGML v1.0//EN
CALSCALE:GREGORIAN
METHOD:PUBLISH
X-WR-CALNAME:PRO ECUADOR
X-ORIGINAL-URL:https://www.proecuador.gob.ec
X-WR-CALDESC:Eventos para PRO ECUADOR
BEGIN:VEVENT
DTSTART;TZID=UTC+0:20251203T100000
DTEND;TZID=UTC+0:20251203T120000
DTSTAMP:20260425T121720
CREATED:20251201T163132Z
LAST-MODIFIED:20251201T163132Z
UID:96559-1764756000-1764763200@www.proecuador.gob.ec
SUMMARY:Comercio sostenible: Oportunidades para MiPymes exportadoras en los mercados internacionales
DESCRIPTION:El Instituto de Promoción del Ecuador – PRO ECUADOR\, entidad adscrita al Ministerio de Producción\, Comercio Exterior e Inversiones – MPCEI; a través del área de Programas y Proyectos\, extienden una cordial invitación para que sean partícipes de la capacitación virtual: “Comercio sostenible: Oportunidades para MiPymes exportadoras en los mercados internacionales”. \nEn el evento intervendrá: \nDr. Néstor Morán Murillo\, Msc.; Especialista de Programas y Proyectos de la Coordinación General de Promoción de Exportaciones \n
URL:https://www.proecuador.gob.ec/event/comercio-sostenible-oportunidades-para-mipymes-exportadoras-en-los-mercados-internacionales-5/
LOCATION:On line (Webinar)\, On line (Webinar)\, On line (Webinar)\, On line (Webinar)\, Ecuador
CATEGORIES:Capacitaciones
ATTACH;FMTTYPE=image/jpeg:https://www.proecuador.gob.ec/wp-content/uploads/2025/12/INV-COMERCIO-DIC-05.jpg
ORGANIZER;CN="PROECUADOR":MAILTO:vvalarezoch@proecuador.gob.ec
END:VEVENT
END:VCALENDAR