BEGIN:VCALENDAR
VERSION:2.0
PRODID:-//PRO ECUADOR - ECPv4.7.4//NONSGML v1.0//EN
CALSCALE:GREGORIAN
METHOD:PUBLISH
X-WR-CALNAME:PRO ECUADOR
X-ORIGINAL-URL:https://www.proecuador.gob.ec
X-WR-CALDESC:Eventos para PRO ECUADOR
BEGIN:VEVENT
DTSTART;TZID=UTC+0:20260424T100000
DTEND;TZID=UTC+0:20260424T110000
DTSTAMP:20260422T143624
CREATED:20260421T163309Z
LAST-MODIFIED:20260421T163309Z
UID:97086-1777024800-1777028400@www.proecuador.gob.ec
SUMMARY:Perú - Oportunidades Comerciales
DESCRIPTION:El Ministerio de Producción\, Comercio Exterior e Inversiones – MPCEI\, a través del Viceministerio de Promoción de Exportaciones e Inversiones PRO ECUADOR y la Oficina Comercial del Ecuador en Lima; extienden una cordial invitación para que sean partícipes de la capacitación virtual: “Perú – Oportunidades Comerciales” \nEn el evento intervendrá:\nMónica Suárez; Consejero Comercial del Ecuador en Lima \n
URL:https://www.proecuador.gob.ec/event/peru-oportunidades-comerciales/
LOCATION:On line (Webinar)\, On line (Webinar)\, On line (Webinar)\, On line (Webinar)\, Ecuador
CATEGORIES:Capacitaciones
ATTACH;FMTTYPE=image/jpeg:https://www.proecuador.gob.ec/wp-content/uploads/2026/04/INV-PERU-05.jpg
ORGANIZER;CN="PRO%20ECUADOR":MAILTO:capacitacion@proecuador.gob.ec
END:VEVENT
END:VCALENDAR