BEGIN:VCALENDAR
VERSION:2.0
PRODID:-//PRO ECUADOR - ECPv4.7.4//NONSGML v1.0//EN
CALSCALE:GREGORIAN
METHOD:PUBLISH
X-WR-CALNAME:PRO ECUADOR
X-ORIGINAL-URL:https://www.proecuador.gob.ec
X-WR-CALDESC:Eventos para PRO ECUADOR
BEGIN:VEVENT
DTSTART;TZID=UTC+0:20251120T093000
DTEND;TZID=UTC+0:20251120T223000
DTSTAMP:20260426T023258
CREATED:20251117T153028Z
LAST-MODIFIED:20251117T153508Z
UID:96518-1763631000-1763677800@www.proecuador.gob.ec
SUMMARY:Las transacciones de tipo de cambio entre LATAM y el Reino Unido
DESCRIPTION:El Instituto de Promoción del Ecuador – PRO ECUADOR\, entidad adscrita al Ministerio de Producción\, Comercio Exterior e Inversiones – MPCEI\, en coordinación con la Oficina Comercial del Ecuador en Londres y con el apoyo del Banco Digital Revolut de Reino Unido; extienden una cordial invitación para que sean partícipes del Webinar: “Las transacciones de tipo de cambio entre LATAM y el Reino Unido”. \nEn el evento intervendrán: \nCarlos De La Paz; Ejecutivo de Cuentas Empresariales para LATAM\, Revolut\nHarvey Hewson; Especialista Británico en Contratos a Plazo de Divisas \n  \nhttps://cedia.zoom.us/meeting/register/0Hltgt1VRU-U5KbYEDCdGQ \n  \n
URL:https://www.proecuador.gob.ec/event/las-transacciones-de-tipo-de-cambio-entre-latam-y-el-reino-unido/
LOCATION:On line (Webinar)\, On line (Webinar)\, On line (Webinar)\, On line (Webinar)\, Ecuador
CATEGORIES:Capacitaciones
ORGANIZER;CN="PRO%20ECUADOR":MAILTO:capacitacion@proecuador.gob.ec
END:VEVENT
END:VCALENDAR