BEGIN:VCALENDAR
VERSION:2.0
PRODID:-//PRO ECUADOR - ECPv4.7.4//NONSGML v1.0//EN
CALSCALE:GREGORIAN
METHOD:PUBLISH
X-WR-CALNAME:PRO ECUADOR
X-ORIGINAL-URL:https://www.proecuador.gob.ec
X-WR-CALDESC:Eventos para PRO ECUADOR
BEGIN:VEVENT
DTSTART;TZID=UTC+0:20251118T100000
DTEND;TZID=UTC+0:20251118T110000
DTSTAMP:20260426T035855
CREATED:20251117T152806Z
LAST-MODIFIED:20251117T152806Z
UID:96515-1763460000-1763463600@www.proecuador.gob.ec
SUMMARY:Gestión Integral de Exportaciones"- Módulo 2: Términos de compraventa y documentación comercial
DESCRIPTION:El Instituto de Promoción del Ecuador – PRO ECUADOR\, entidad adscrita al Ministerio de Producción\, Comercio Exterior e Inversiones – MPCEI\, con el apoyo de la empresa Schryver del Ecuador S.A.\, extienden una cordial invitación para que sean partícipes del Programa de Formación: “Gestión Integral de Exportaciones”- Módulo 2: Términos de compraventa y documentación comercial. \nEn el evento intervendrá: \nMgs. Abigail Tamayo; Gerente de Operaciones de Schryver del Ecuador. \n  \nhttps://cedia.zoom.us/meeting/register/STZ4NgZ_QNaBcaU_Qgld8w \n
URL:https://www.proecuador.gob.ec/event/gestion-integral-de-exportaciones-modulo-2-terminos-de-compraventa-y-documentacion-comercial/
LOCATION:On line (Webinar)\, On line (Webinar)\, On line (Webinar)\, On line (Webinar)\, Ecuador
CATEGORIES:Capacitaciones
ATTACH;FMTTYPE=image/jpeg:https://www.proecuador.gob.ec/wp-content/uploads/2025/11/INV-EXP-MOD2-05-1.jpg
END:VEVENT
END:VCALENDAR