BEGIN:VCALENDAR
VERSION:2.0
PRODID:-//PRO ECUADOR - ECPv4.7.4//NONSGML v1.0//EN
CALSCALE:GREGORIAN
METHOD:PUBLISH
X-WR-CALNAME:PRO ECUADOR
X-ORIGINAL-URL:https://www.proecuador.gob.ec
X-WR-CALDESC:Eventos para PRO ECUADOR
BEGIN:VEVENT
DTSTART;TZID=UTC+0:20251127T090000
DTEND;TZID=UTC+0:20251127T100000
DTSTAMP:20260425T221516
CREATED:20251121T213504Z
LAST-MODIFIED:20251121T214549Z
UID:96545-1764234000-1764237600@www.proecuador.gob.ec
SUMMARY:Como te ven\, vendes". Parte 2. La estrategia detrás del scroll: innovación digital con propósito
DESCRIPTION:El Instituto de Promoción del Ecuador – PRO ECUADOR\, entidad adscrita al Ministerio de Producción\, Comercio Exterior e Inversiones – MPCEI; con el apoyo de la empresa Creática Branding\, extienden una cordial invitación para que sean partícipes de la capacitación Tu marca: “Como te ven\, vendes”. Parte 2. La estrategia detrás del scroll: innovación digital con propósito. \nEn el evento intervendrá: \nAllison Zambrano; Directora de Marketing y Publicidad Digital. \n  \nhttps://cedia.zoom.us/meeting/register/ARziGNECTka2b645MD2pFw \n
URL:https://www.proecuador.gob.ec/event/como-te-ven-vendes-parte-2-la-estrategia-detras-del-scroll-innovacion-digital-con-proposito/
LOCATION:On line (Webinar)\, On line (Webinar)\, On line (Webinar)\, On line (Webinar)\, Ecuador
CATEGORIES:Capacitaciones
ATTACH;FMTTYPE=image/jpeg:https://www.proecuador.gob.ec/wp-content/uploads/2025/11/INV-MARCA-pt2-05.jpg
ORGANIZER;CN="PRO%20ECUADOR":MAILTO:capacitacion@proecuador.gob.ec
END:VEVENT
END:VCALENDAR