BEGIN:VCALENDAR
VERSION:2.0
PRODID:-//PRO ECUADOR - ECPv4.7.4//NONSGML v1.0//EN
CALSCALE:GREGORIAN
METHOD:PUBLISH
X-WR-CALNAME:PRO ECUADOR
X-ORIGINAL-URL:https://www.proecuador.gob.ec
X-WR-CALDESC:Eventos para PRO ECUADOR
BEGIN:VEVENT
DTSTART;TZID=UTC+0:20251126T090000
DTEND;TZID=UTC+0:20251126T110000
DTSTAMP:20260425T233946
CREATED:20251121T213232Z
LAST-MODIFIED:20251121T214835Z
UID:96541-1764147600-1764154800@www.proecuador.gob.ec
SUMMARY:Como te ven\, vendes". Parte 1. Branding & Customer Experience Packaging: Identidad Competitiva para mercados desafiantes
DESCRIPTION:El Instituto de Promoción del Ecuador – PRO ECUADOR\, entidad adscrita al Ministerio de Producción\, Comercio Exterior e Inversiones – MPCEI; con el apoyo de la empresa Creática Branding\, extienden una cordial invitación para que sean partícipes de la capacitación Tu marca: “Como te ven\, vendes”. Parte 1. Branding & Customer Experience Packaging: Identidad Competitiva para mercados desafiantes. \nEn el evento intervendrá: \nEnzo Cucalón; CEO Creática -Ecuador \n  \nhttps://cedia.zoom.us/meeting/register/QWBwasGlRmqkOXdU6gLFVA \n
URL:https://www.proecuador.gob.ec/event/como-te-ven-vendes-parte-1-branding-customer-experience-packaging-identidad-competitiva-para-mercados-desafiantes/
LOCATION:On line (Webinar)\, On line (Webinar)\, On line (Webinar)\, On line (Webinar)\, Ecuador
CATEGORIES:Capacitaciones
ATTACH;FMTTYPE=image/jpeg:https://www.proecuador.gob.ec/wp-content/uploads/2025/11/INV-MARCA-pt1-05.jpg
ORGANIZER;CN="PRO%20ECUADOR":MAILTO:capacitacion@proecuador.gob.ec
END:VEVENT
END:VCALENDAR